BEGIN:VCALENDAR
PRODID://WordPress//Event-Post-V5.9.2//EN
VERSION:2.0
BEGIN:VTIMEZONE
TZID:Europe/Rome
BEGIN:DAYLIGHT
TZOFFSETFROM:+0100
TZOFFSETTO:+0200
DTSTART:19700329T020000
RRULE:FREQ=YEARLY;BYDAY=-1SU;BYMONTH=3
END:DAYLIGHT
BEGIN:STANDARD
TZOFFSETFROM:+0200
TZOFFSETTO:+0100
TZNAME:CET
DTSTART:19701025T030000
RRULE:FREQ=YEARLY;BYDAY=-1SU;BYMONTH=10
END:STANDARD
END:VTIMEZONE
BEGIN:VEVENT
SUMMARY:max bill (1908-1994): la grammatica della bellezza
UID:https://museimtest.p1.zrh01.swissbix.com/?p=9370
LOCATION:
DTSTAMP:20260329
DTSTART;TZID=Europe/Rome:20260329
DTEND;TZID=Europe/Rome:20260712
DESCRIPTION:Mostra a cura di Karin Gimmi e Nicoletta Ossanna Cavadini.
L’esposizione si inserisce nel filone che il m.a.x. museo dedica
ciclicamente ai “maestri del XX secolo” ed è collegata al tema guida
dell’anno del Centro Culturale Chiasso, la pulchritudo. Questo concetto
è interpretato da Max Bill attraverso un incessante lavoro di ricerca
quale espressione massima di armonia, sintesi, unità, spazio e logica.
Architetto, anche se più noto come pittore, scultore, designer e grafico,
Max Bill frequenta il Bauhaus dal 1927 al 1928, e da questa esperienza trae
i principi fondanti per esprimere un’arte razionale, oggettiva e non
figurativa, costituendo con le sue relazioni personali un forte asse fra
Zurigo e Milano che contribuirà a divulgare l’innovativo fenomeno della
konkrete kunst o arte concreta. L’attività artistica, il pensiero
teorico e l’insegnamento sono aspetti di un unico metodo adottato da Max
Bill e riconosciuto dalla critica come concetto “d’artista
universale”.
La mostra al m.a.x. museo vuole porre l’accento sulla centralità della
figura di Max Bill come protagonista della cultura del Moderno, con
particolare riferimento alle relazioni fra Zurigo, il Canton Ticino e
l’Italia.

In mostra sono esposte oltre 150 sue opere pittoriche, scultoree, grafiche
e di design secondo un criterio tematico-cronologico, avendo sempre come
fil rouge il forte rapporto che Max Bill tenne con l’Italia e il Cantone
Ticino. Fondamentale è il prestito della collezione di Jakob e Chantal
Bill e della “max, binia + jakob bill stiftung”. Vi sono opere
significative anche provenienti da musei svizzeri – Fotostiftung Schweiz
di Winterthur, Museum für Gestaltung Zürich, gta Archiv ETH Zürich,
Kunst Museum Winterthur, MASI Lugano, Biblioteca Accademia di architettura
USI, Mendrisio, Biblioteca cantonale, Lugano – oltre a importanti
collezioni private, fra cui si ricordano la collezione Lorenzelli Arte,
Milano, e Collezione WB form, Zürich.

Inaugurazione
sabato 28 marzo 2026, ore 17.30

Periodo espositivo
29.03.2026 - 12.07.2026

Orari 
martedì − venerdì
10.00 − 12.00 / 14.00 − 18.00
sabato - domenica
10.30 - 18.00

Aperture speciali
domenica 5 aprile, Pasqua
lunedì 6 aprile, Pasquetta
venerdì 1 maggio, Festa del lavoro
giovedì 14 maggio, Ascensione
lunedì 25 maggio, Lunedì di Pentecoste
giovedì 4 giugno, Corpus Domini
lunedì 29 giugno, SS. Pietro e Paolo

Chiusure speciali
venerdì 3 aprile
sabato 4 aprile

Chiuso il lunedì.

Ingresso gratuito ogni prima domenica del mese.

MAGGIORI INFO

📷 max bill, feld aus sechs sich durchdringenden farben, 1966-67, olio su
tela
collezione chantal + jakob bill

 
END:VEVENT
END:VCALENDAR