BEGIN:VCALENDAR
PRODID://WordPress//Event-Post-V5.9.2//EN
VERSION:2.0
BEGIN:VTIMEZONE
TZID:Europe/Rome
BEGIN:DAYLIGHT
TZOFFSETFROM:+0100
TZOFFSETTO:+0200
DTSTART:19700329T020000
RRULE:FREQ=YEARLY;BYDAY=-1SU;BYMONTH=3
END:DAYLIGHT
BEGIN:STANDARD
TZOFFSETFROM:+0200
TZOFFSETTO:+0100
TZNAME:CET
DTSTART:19701025T030000
RRULE:FREQ=YEARLY;BYDAY=-1SU;BYMONTH=10
END:STANDARD
END:VTIMEZONE
BEGIN:VEVENT
SUMMARY:"Percorsi culturali sostenibili nel Mendrisiotto"
UID:https://museimtest.p1.zrh01.swissbix.com/?p=6556
LOCATION:
DTSTAMP:20210901
DTSTART;TZID=Europe/Rome:20210901
DTEND;TZID=Europe/Rome:20290901
DESCRIPTION:"Percorsi culturali sostenibili nel Mendrisiotto" è una carta geografica
che collega i cinque Musei d’Arte del Mendrisiotto lungo percorsi pensati
per incentivare la mobilità sostenibile e favorire la scoperta della
regione.
Si tratta di itinerari che toccano luoghi di interesse storico-artistico e
attraversano un paesaggio ricco di sfaccettature, tra aree urbanizzate,
zone agresti e parchi naturali. Facili o di media difficoltà, tutti i
percorsi segnalati sono percorribili a piedi o in bicicletta, a tappe e
senza un ordine prestabilito.
Un invito a esplorare il territorio e fruire della variegata offerta
espositiva proposta dalla Rete MAM.

Visualizza la MAPPA
Vai ai PUNTI DI INTERESSE

La mappa è distribuita gratuitamente nei cinque musei della Rete MAM.

CREDITI
Geodati ©Swisstopo
Consulenza cartografica Enrico Sassi
Fotografie Simone Mengani / Massimo Pacciorini-Job
Grafica Alfio Mazzei


RINGRAZIAMENTI
La mappa è stata creata grazie al sostegno dell'Ente regionale per lo
sviluppo del Mendrisiotto e Basso Ceresio (ERS), alla consulenza tecnica
dell'Osservatorio dello sviluppo territoriale (OST) e in partenariato con
Mobilità pedonale svizzera.

    

 
END:VEVENT
END:VCALENDAR