BEGIN:VCALENDAR
PRODID://WordPress//Event-Post-V5.9.2//EN
VERSION:2.0
BEGIN:VTIMEZONE
TZID:Europe/Rome
BEGIN:DAYLIGHT
TZOFFSETFROM:+0100
TZOFFSETTO:+0200
DTSTART:19700329T020000
RRULE:FREQ=YEARLY;BYDAY=-1SU;BYMONTH=3
END:DAYLIGHT
BEGIN:STANDARD
TZOFFSETFROM:+0200
TZOFFSETTO:+0100
TZNAME:CET
DTSTART:19701025T030000
RRULE:FREQ=YEARLY;BYDAY=-1SU;BYMONTH=10
END:STANDARD
END:VTIMEZONE
BEGIN:VEVENT
SUMMARY:MUSEO DEL TRASPARENTE
UID:https://museimtest.p1.zrh01.swissbix.com/?p=5241
LOCATION:
DTSTAMP:20230101
DTSTART;TZID=Europe/Rome:20230101
DTEND;TZID=Europe/Rome:20281231
DESCRIPTION:I Trasparenti

I “trasparenti” sono apparati effimeri connessi con le Processioni
storiche di Mendrisio della Settimana Santa, documentate almeno dal XVII
secolo. I primi grandi “archi luminosi” o “fanali” appesi sulle
strade compaiono invece, come afferma in una lettera don Ambrogio Torriani,
solo nel 1791. Quasi sicuramente fu il frate servita Antonio Maria Baroffio
(1732-1798) del convento di San Giovanni a introdurre questa tradizione.

Benché i “trasparenti” fossero da subito gestiti dai Servi di Maria e
conservati nel Convento, furono sempre pagati da privati cittadini e, a
partire dal 1794, anche dall’autorità municipale di Mendrisio, alla
quale inoltre spettava il compito di organizzare il loro allestimento.
Dalla soppressione del Convento nel 1852, fino ad oggi, il Comune di
Mendrisio in qualità di proprietario di quasi tutte le opere – alcune
delle quali ricevute successivamente in donazione dalle famiglie che li
avevano commissionati – si è sempre preso carico di presentarli nelle
strade del Borgo in occasione delle processioni della Settimana Santa.

Tra il 1791 e il 1792 fu completata la prima serie delle così dette
“porte”: lo stile evidente, le scritte e le date dipinte su alcuni
telai, indicano in Giovanni Battista Bagutti di Rovio (1742-1823)
l’autore, forse, di tutta la prima serie originale. Ciascuna facciata
presentava una scena centrale affiancata da due figure di profeti, i cui
testi erano collegati al soggetto rappresentato. Oltre alle scene della
Passione di Cristo vi erano illustrati almeno due episodi della “Passione
di Maria”. Negli stessi anni egli firma e data anche il gruppo delle 4
“lesene” sulla facciata di San Giovanni e la serie di 6 “vele” per
la facciata del Convento di San Giovanni. Inoltre sono a lui attribuibili
anche il “cartellone” sopra la porta della chiesa, l’arco con
angioletti, i 4 “tempietti” con Profeti, e 4 serie di lampioni.

Le prime opere documentate dopo quelle del Bagutti, sono una serie di 12
“fanali” che il Comune di Mendrisio paga nel 1838 ad Augusto Catenazzi,
da collocarsi su “pali” lungo l’attuale Corso bello. Scomparsi, o non
più identificabili quelli, nel 1949 un’analoga commissione incarica
Mario Gilardi di eseguire altrettante “lanterne fisse” da collocare nel
viale alberato che conduce alla chiesa di San Francesco dei cappuccini,
all’estremità sud del percorso processionale.

Tour virtuale delle processioni storiche

 

Casa Croci

L’architetto Antonio Croci (1823-1884) studiò architettura
all’Accademia delle Belle Arti di Milano, dove si distinse vincendo il
primo premio di un concorso in “Invenzione architettonica”.
Visse a lungo in Turchia, dove lavorò per la corte di Costantinopoli. Di
lui e del suo lavoro ancora non si hanno molte certezze: l’archivio con i
piani dei suoi studi, custodito da una lontana parente in quanto il Croci
restò scapolo e non ebbe eredi diretti, fu mandato al macero; è quasi
certo che abbia lavorato a più riprese per il Barone russo Von der Wies in
particolare per la costruzione del castello di Valrose a Nizza terminato
nel 1869; si occupò tra il 1861 e il 1865 della ristrutturazione della
chiesa di San Giorgio a Ernen e della chiesa di Lax, sempre in Vallese nel
1874. L’anno successivo collaborò con Vincenzo Vela (scultore 1820-1891)
al monumento equestre dedicato al Duca di Brunswick, mai realizzato, il cui
modello è conservato al museo Vela di Ligornetto.
Dopo un lungo soggiorno in America Latina tra il 1871 e il 1872 a Buenos
Aires, Antonio Croci venne incaricato dalla mendrisiense famiglia
Bernasconi della realizzazione a Mendrisio di Villa Argentina.
Nel 1858 costruì a Mendrisio la propria abitazione (nota oggi come “Casa
Croci”) sul pendio soleggiato chiamato Carlasch (ancora oggi si
identifica con quel nome la stessa costruzione. Negli anni, altre
costruzioni hanno assediato Casa Croci, originariamente solitaria,
nascondendo pure lo stato di degrado cui era stata abbandonata.
Fortunatamente, negli anni Settanta del secolo scorso si riscoprì il suo
valore architettonico. Oggi, interamente e finemente ristrutturata, è
integrata nel patrimonio del catalogo cantonale dei monumenti, ed è stata
destinata a esposizioni temporanee.
Dal 2017 Casa Croci è sede del Museo del Trasparente e ospita una mostra
permanente che consente di osservare da vicino, e durante tutto l’anno, i
preziosi oggetti: al pianterreno una sezione è dedicata alle Processioni
storiche e alla loro storia; al primo piano le varie tipologie che
caratterizzano l’eccezionale apparato decorativo di “trasparenti”; al
secondo piano una sezione dedicata ai problemi di esecuzione, conservazione
e restauro.

Tour virtuale del Museo del Trasparente

 

Indirizzo
Casa Croci
Via Municipio
CH – 6850 Mendrisio

Orari d’apertura
giovedì e sabato
14.00 - 18.00

Settimana Santa
da mercoledì 1 aprile a domenica 12 aprile 2026
10.00-12.00 / 14.00-18.00

Giovedì e Venerdì Santo
10.00-20.30

Entrata gratuita
END:VEVENT
END:VCALENDAR