BEGIN:VCALENDAR
PRODID://WordPress//Event-Post-V5.9.2//EN
VERSION:2.0
BEGIN:VTIMEZONE
TZID:Europe/Rome
BEGIN:DAYLIGHT
TZOFFSETFROM:+0100
TZOFFSETTO:+0200
DTSTART:19700329T020000
RRULE:FREQ=YEARLY;BYDAY=-1SU;BYMONTH=3
END:DAYLIGHT
BEGIN:STANDARD
TZOFFSETFROM:+0200
TZOFFSETTO:+0100
TZNAME:CET
DTSTART:19701025T030000
RRULE:FREQ=YEARLY;BYDAY=-1SU;BYMONTH=10
END:STANDARD
END:VTIMEZONE
BEGIN:VEVENT
SUMMARY:PASS MAM
UID:https://museimtest.p1.zrh01.swissbix.com/?p=4442
LOCATION:
DTSTAMP:20220930
DTSTART;TZID=Europe/Rome:20220930
DTEND;TZID=Europe/Rome:20280930
DESCRIPTION:Scoprite i Musei d’Arte del Mendrisiotto con il Pass MAM!

Acquistabile presso ciascun museo della Rete MAM al costo di CHF 50, il
Pass MAM permette di accedere alle collezioni permanenti e alle mostre
temporanee dei Musei d'Arte del Mendrisiotto per la durata di un anno (a
partire da una data a scelta) e senza limiti d'accesso.

MUSEI PARTNER
m.a.x. museo, Chiasso
Museo d'arte Mendrisio
Museo Vincenzo Vela, Ligornetto
Pinacoteca cantonale Giovanni Züst, Rancate
Teatro dell'architettura Mendrisio

Per maggiori informazioni scrivere a
info@museimtest.p1.zrh01.swissbix.com.

 

 

 
END:VEVENT
END:VCALENDAR