BEGIN:VCALENDAR
PRODID://WordPress//Event-Post-V5.9.2//EN
VERSION:2.0
BEGIN:VTIMEZONE
TZID:Europe/Rome
BEGIN:DAYLIGHT
TZOFFSETFROM:+0100
TZOFFSETTO:+0200
DTSTART:19700329T020000
RRULE:FREQ=YEARLY;BYDAY=-1SU;BYMONTH=3
END:DAYLIGHT
BEGIN:STANDARD
TZOFFSETFROM:+0200
TZOFFSETTO:+0100
TZNAME:CET
DTSTART:19701025T030000
RRULE:FREQ=YEARLY;BYDAY=-1SU;BYMONTH=10
END:STANDARD
END:VTIMEZONE
BEGIN:VEVENT
SUMMARY:COLLEZIONE DEL MUSEO VINCENZO VELA
UID:https://museimtest.p1.zrh01.swissbix.com/?p=4286
LOCATION:
DTSTAMP:20230101
DTSTART;TZID=Europe/Rome:20230101
DTEND;TZID=Europe/Rome:20281231
DESCRIPTION:Il Museo Vincenzo Vela appartiene al novero delle più importanti case
d'artista dell'Ottocento europeo. Ideata dal grande scultore realista
ticinese Vincenzo Vela (1820-91) all'apice della sua carriera e trasformata
in museo pubblico dopo la sua donazione allo Stato elvetico, accanto alla
gipsoteca monumentale di Vincenzo Vela, il museo conserva i lasciti dello
scultore Lorenzo Vela (1812-97) e del pittore Spartaco Vela (1854-95), una
notevole quadreria ottocentesca di pittura lombarda e piemonetese, nonché
centinaia di disegni autografi e una delle più antiche collezioni
fotografiche private svizzere.
Arte e storia dell'Ottocento italiano e svizzero si intrecciano in un
unicum, attraverso i magnifici ritratti dei protagonisti del Risorgimento,
mentre la presenza di alcuni elementi che ricordano il carattere privato
della residenza e il parco panoramico, conferiscono a questo luogo il
carattere di opera d'arte totale.
Orari
martedì - venerdì
10.00 - 17.00 (gennaio - maggio)
10.00 - 18.00 (giugno - settembre)
10.00 - 17.00 (ottobre - novembre)

sabato e domenica
10.00 - 18.00

Chiuso il lunedì.
Entrata gratuita tutti i mercoledì.

MAGGIORI INFO
END:VEVENT
END:VCALENDAR