BEGIN:VCALENDAR
PRODID://WordPress//Event-Post-V5.9.2//EN
VERSION:2.0
BEGIN:VTIMEZONE
TZID:Europe/Rome
BEGIN:DAYLIGHT
TZOFFSETFROM:+0100
TZOFFSETTO:+0200
DTSTART:19700329T020000
RRULE:FREQ=YEARLY;BYDAY=-1SU;BYMONTH=3
END:DAYLIGHT
BEGIN:STANDARD
TZOFFSETFROM:+0200
TZOFFSETTO:+0100
TZNAME:CET
DTSTART:19701025T030000
RRULE:FREQ=YEARLY;BYDAY=-1SU;BYMONTH=10
END:STANDARD
END:VTIMEZONE
BEGIN:VEVENT
SUMMARY:Audioguida della Rete MAM sulla App smARTravel
UID:https://museimtest.p1.zrh01.swissbix.com/?p=2370
LOCATION:
DTSTAMP:20210517
DTSTART;TZID=Europe/Rome:20210517
DTEND;TZID=Europe/Rome:20280831
DESCRIPTION:“Alla scoperta del Mendrisiotto attraverso i suoi cinque Musei
d’Arte”



La Rete dei Musei d’Arte del Mendrisiotto ha il piacere di presentare una
nuova audioguida per fare (ri)scoprire diversamente al pubblico il
Mendrisiotto, mettendo in luce la storia e le caratteristiche del
territorio che ospita i cinque musei.

Sull’applicazione smARTravel, si può scaricare un itinerario di
audioguida, concepito come un viaggio nel tempo e nello spazio attraverso i
cinque Musei d’Arte della Rete. Si percorre così un territorio ricco di
particolarità storico-artistiche e paesaggistiche, luogo d’origine di
numerosi artisti, architetti, collezionisti e mecenati – di cui i musei
sono i testimoni. Il Mendrisiotto rappresenta un’area di grande
interesse, a livello locale e nazionale, essendo situato in una regione
ricca di connessioni e relazioni, crocevia fra l’Europa del Nord e il
Mediterraneo.

Con questa guida, che ha la particolarità di non essere incentrata sulla
narrazione delle mostre o dei singoli musei, ma elaborata con schede
tematiche e attraverso nuovi approcci narrativi, i musei della Rete MAM
desiderano valorizzare la loro comune appartenenza geografica e il loro
rapporto con il territorio e la sua storia. Le diverse schede, contenenti
storie e aneddoti, legati ai cinque musei, sono quindi sempre disponibili e
affiancate da fotografie e da una mappa interattiva del territorio, che
permette di effettuare il percorso sia fisicamente sia virtualmente, a
distanza.

Temi delle schede:

Museo Vincenzo Vela
– Vela dopo il 1867, anno del rientro nel Mendrisiotto
– Villa Vela nella Campagnadorna di metà Ottocento
– La tradizione scultorea del Mendrisiotto e le cave di marmo
– Il confine che ha segnato la storia del Mendrisiotto e di Vincenzo
Vela

Pinacoteca cantonale Giovanni Züst
– Giovanni Züst: biografia di un imprenditore e collezionista da Basilea
a Chiasso
– Züst a Rancate 
– La collezione in rapporto al territorio. Due “salvataggi”
esemplari: Rinaldi e Serodine
– La Pinacoteca: architettura, collezioni, attività di studio e
valorizzazione della storia e dell’arte del territorio

Museo d’arte Mendrisio
– S. Giovanni a Mendrisio: da convento a Museo
– All’origine del Museo d’arte Mendrisio: la donazione Grigioni
– Artisti confederati nel Mendrisiotto di inizio Novecento
– La figura di Gino Macconi (1928-1999)

m.a.x. museo
– Il Centro Culturale Chiasso: contenitori e contenuti delle tre “C”
– Una lanterna come museo: il progetto degli architetti Durisch &amp;
Nolli
– Un mare di binari … la figura del grafico Max Huber (1919-1992) e la
missione del m.a.x. museo 
– Chiasso città di confine, luogo di traffici e commerci e nuove
identità culturali

Teatro dell’architettura Mendrisio
– Palazzo Turconi e il Cantone Ticino
– Mario Botta architetto e la città di Mendrisio
– Il campus dell’Accademia di architettura dell’USI
– Il ‘Teatro’ per un’’architettura che fa scuola’

 

La App smARTravel e informazioni pratiche:

smARTravel è una App multimediale per smartphone gratuita, realizzata
dalla startup ticinese Alsaro. I contenuti proposti sono fruibili in modo
dinamico e interattivo e adattati ai dispositivi mobili, Android (Google) o
iOS (Apple).

Link per scaricare la App e l’audioguida

L’audioguida – itinerario delle rete MAM disponibile all’interno
della App è scaricabile al costo di 2.- CHF ed è disponibile in quattro
lingue (italiano, tedesco, francese e inglese).

 

Ringraziamenti
L'audioguida è stata realizzata con il sostegno dell’Ente Regionale per
lo Sviluppo del Mendrisiotto e Basso Ceresio.
END:VEVENT
END:VCALENDAR