BEGIN:VCALENDAR
PRODID://WordPress//Event-Post-V5.9.2//EN
VERSION:2.0
BEGIN:VTIMEZONE
TZID:Europe/Rome
BEGIN:DAYLIGHT
TZOFFSETFROM:+0100
TZOFFSETTO:+0200
DTSTART:19700329T020000
RRULE:FREQ=YEARLY;BYDAY=-1SU;BYMONTH=3
END:DAYLIGHT
BEGIN:STANDARD
TZOFFSETFROM:+0200
TZOFFSETTO:+0100
TZNAME:CET
DTSTART:19701025T030000
RRULE:FREQ=YEARLY;BYDAY=-1SU;BYMONTH=10
END:STANDARD
END:VTIMEZONE
BEGIN:VEVENT
SUMMARY:Installazione "Sleipnir e il Labirinto di Porte"
UID:https://museimtest.p1.zrh01.swissbix.com/?p=10529
LOCATION:
DTSTAMP:20260508
DTSTART;TZID=Europe/Rome:20260508
DTEND;TZID=Europe/Rome:20261220
DESCRIPTION:A cura di Duilio Forte in collaborazione con Simon Fikstvedt e Barbara
Stallone, realizzata dalle studentesse e dagli studenti dell'Atelier
Forte.
Promossa dall'Accademia di architettura dell'USI.

Nell'atrium del Teatro dell'architettura Mendrisio, l’installazione
“Sleipnir e il Labirinto di Porte” realizzata dalle studentesse e dagli
studenti dell’Atelier Forte dell'Accademia di architettura si compone di
tre elementi: la porta, il labirinto e Sleipnir, scultura iconica di Duilio
Forte.
Le porte, progettate e costruite individualmente dalle studentesse e dagli
studenti iscritti al corso, sono intese come soglie simboliche e
architettoniche. L'insieme costituisce un labirinto, metafora del processo
progettuale, che conduce a "Sleipnir", simbolo di esplorazione e della
relazione tra uomo e spazio.
Realizzata nell’ambito dell’atelier di progettazione diretto da Duilio
Forte, l’opera restituisce al pubblico l’esito di un’esperienza
collettiva, trasformando lo spazio del Teatro dell'architettura.

Inaugurazione
giovedì 7 maggio 2026, 18.30
Periodo espositivo
8.5.2026 – 20.12.2026
Orari
giovedì – venerdì
14.00-18.00
sabato e domenica
10.00-18.00
lunedì – mercoledì
chiuso (aperto su prenotazione per gruppi)
Porte aperte con ingresso gratuito
10 maggio
7 giugno
5 luglio
6 settembre
4 ottobre
1° novembre
6 dicembre
Chiusura estiva
dal 13 luglio al 23 agosto 2026

Entrata
intero: CHF / € 10.-
ridotto: CHF / € 7.-

MAGGIORI INFO
END:VEVENT
END:VCALENDAR