BEGIN:VCALENDAR
PRODID://WordPress//Event-Post-V5.9.2//EN
VERSION:2.0
BEGIN:VTIMEZONE
TZID:Europe/Rome
BEGIN:DAYLIGHT
TZOFFSETFROM:+0100
TZOFFSETTO:+0200
DTSTART:19700329T020000
RRULE:FREQ=YEARLY;BYDAY=-1SU;BYMONTH=3
END:DAYLIGHT
BEGIN:STANDARD
TZOFFSETFROM:+0200
TZOFFSETTO:+0100
TZNAME:CET
DTSTART:19701025T030000
RRULE:FREQ=YEARLY;BYDAY=-1SU;BYMONTH=10
END:STANDARD
END:VTIMEZONE
BEGIN:VEVENT
SUMMARY:BERTILLE BAK. Voci dalla terra
UID:https://museimtest.p1.zrh01.swissbix.com/?p=10236
LOCATION:
DTSTAMP:20260426
DTSTART;TZID=Europe/Rome:20260426
DTEND;TZID=Europe/Rome:20270110
DESCRIPTION:A cura di Antonia Nessi, in collaborazione con Anita Guglielmetti.

Con questa proposta espositiva – che costituisce la prima personale di
Bertille Bak in un’istituzione museale svizzera – il Museo Vincenzo
Vela conferma il proprio sostegno e interesse verso l’arte contemporanea
nelle sue molteplici espressioni. Allestita in collaborazione con
l’artista, la mostra prende avvio al pianterreno di Villa Vela per poi
svilupparsi nelle sale al primo piano, intessendo un coinvolgente dialogo
con la collezione permanente e in particolare con Le vittime del lavoro
(1882–83), capolavoro della maturità artistica di Vincenzo Vela.
Bertille Bak pone al centro della sua ricerca l’essere umano,
l’importanza dell’incontro e la questione del lavoro. Guidata nella sua
pratica artistica da un sentimento di consapevolezza e al tempo stesso di
empatia, instaura scambi con specifiche comunità, dimenticate e
marginalizzate, delle quali condivide la quotidianità. Mediante il loro
coinvolgimento diretto, senza un copione prestabilito, immagina una
narrazione alternativa utilizzando media quali il video, il disegno o
l’installazione.
Al di là dei cliché, evitando ogni atteggiamento pietistico, l’artista
mostra da una prospettiva nuova realtà complesse, offrendo alle persone
coinvolte la possibilità di raccontarsi in modo talvolta sovversivo o
persino autoironico.
Al confine tra documentario sociologico e finzione, realismo e burlesco,
crea una “fabbrica di storie” che reinventano il quotidiano e offrono
una forma di resistenza poetica di fronte alla durezza della realtà. Nelle
sale del Museo, le sue opere conferiscono alle Vittime del lavoro di Vela
una lettura nuova, estendendo il significato del monumento alla realtà
contemporanea e alla questione del lavoro in senso globale e universale.

Inaugurazione
Sabato 25 aprile 2026, 17.00

Periodo espositivo
26.04.2026 - 10.01.2027

Orari
martedì – venerdì
10.00-17.00
sabato – domenica
10.00-18.00

Chiuso il lunedì.

Aperture speciali
1° maggio
14 maggio, Ascensione
25 maggio, Corpus Domini
1°, 15 agosto
1° novembre
8, 26 dicembre
6 gennaio

Chiusure speciali
24, 25, 31 dicembre
1° gennaio

Entrata
intero: CHF 10.-
ridotto: CHF 8.-
Entrata gratuita tutti i mercoledì.

MAGGIORI INFO

📷 Bertille Bak, Nature morte, 2023, video FHD, 21' (videostill)
© 2026, Prolitteris, Zurich
END:VEVENT
END:VCALENDAR